BEGIN:VCALENDAR
VERSION:2.0
PRODID:-//eventon.com NONSGML v1.0//EN
CALSCALE:GREGORIAN
METHOD:PUBLISH
BEGIN:VEVENT
UID:69e7949f31b12
DTSTAMP:20260421T151543Z
DTSTART:20230520
DTEND:20230521
LOCATION:Administration communale d&#039;Incourt Place F. Kest
SUMMARY:Scène de villages à Incourt
DESCRIPTION:Toutes les infos ici.\nhttps://culturalite.be/events/scene-de-v
 illages-a-incourt-2/
URL:https://culturalite.be/events/scene-de-villages-a-incourt-2/
END:VEVENT
END:VCALENDAR