BEGIN:VCALENDAR
VERSION:2.0
PRODID:-//eventon.com NONSGML v1.0//EN
CALSCALE:GREGORIAN
METHOD:PUBLISH
BEGIN:VEVENT
UID:69e819ce6a12d
DTSTAMP:20260422T004358Z
DTSTART:20230606T130000Z
DTEND:20230606T170000Z
LOCATION:Centre culturel d’Hamme Mille Rue Auguste Goemans 20\,  1320 Beauvechain
SUMMARY:Marché des producteurs et artisans locaux
DESCRIPTION:\nhttps://culturalite.be/events/marche-des-producteurs-et-artis
 ans-locaux-7/var/ri-6.l-L1
URL:https://culturalite.be/events/marche-des-producteurs-et-artisans-locaux-7/var/ri-6.l-L1
END:VEVENT
END:VCALENDAR