BEGIN:VCALENDAR
VERSION:2.0
PRODID:-//eventon.com NONSGML v1.0//EN
CALSCALE:GREGORIAN
METHOD:PUBLISH
BEGIN:VEVENT
UID:69e5ee2879a2d
DTSTAMP:20260420T091312Z
DTSTART:20230930T160000Z
DTEND:20230930T190000Z
LOCATION:Place du Brouc Hélécine Place du Brouc Hélécine
SUMMARY:Marché des producteurs et artisans locaux
DESCRIPTION:\nhttps://culturalite.be/events/marche-des-producteurs-et-artis
 ans-locaux-5/
URL:https://culturalite.be/events/marche-des-producteurs-et-artisans-locaux-5/
END:VEVENT
END:VCALENDAR